BEGIN:VCALENDAR
VERSION:2.0
PRODID:-//Finchcocks Piano Courses - ECPv6.15.20//NONSGML v1.0//EN
CALSCALE:GREGORIAN
METHOD:PUBLISH
X-ORIGINAL-URL:https://www.finchcocks.com
X-WR-CALDESC:Events for Finchcocks Piano Courses
REFRESH-INTERVAL;VALUE=DURATION:PT1H
X-Robots-Tag:noindex
X-PUBLISHED-TTL:PT1H
BEGIN:VTIMEZONE
TZID:Europe/London
BEGIN:DAYLIGHT
TZOFFSETFROM:+0000
TZOFFSETTO:+0100
TZNAME:BST
DTSTART:20250330T010000
END:DAYLIGHT
BEGIN:STANDARD
TZOFFSETFROM:+0100
TZOFFSETTO:+0000
TZNAME:GMT
DTSTART:20251026T010000
END:STANDARD
BEGIN:DAYLIGHT
TZOFFSETFROM:+0000
TZOFFSETTO:+0100
TZNAME:BST
DTSTART:20260329T010000
END:DAYLIGHT
BEGIN:STANDARD
TZOFFSETFROM:+0100
TZOFFSETTO:+0000
TZNAME:GMT
DTSTART:20261025T010000
END:STANDARD
BEGIN:DAYLIGHT
TZOFFSETFROM:+0000
TZOFFSETTO:+0100
TZNAME:BST
DTSTART:20270328T010000
END:DAYLIGHT
BEGIN:STANDARD
TZOFFSETFROM:+0100
TZOFFSETTO:+0000
TZNAME:GMT
DTSTART:20271031T010000
END:STANDARD
END:VTIMEZONE
BEGIN:VEVENT
DTSTART;TZID=Europe/London:20261211T193000
DTEND;TZID=Europe/London:20261213T153000
DTSTAMP:20260420T091658
CREATED:20260216T080022Z
LAST-MODIFIED:20260206T165014Z
UID:31259-1797017400-1797175800@www.finchcocks.com
SUMMARY:Christmas at Finchcocks with David Hall - Mixed ability
DESCRIPTION:Experience the magic of Finchcocks during the festive season and escape Christmas craziness with this popular retreat! \nRun by David Hall\, FRCO MA Cantab\, this mixed ability weekend aims to explore Christmas music written or arranged for piano\, accompanied by carols\, mince pies and of course mulled wine! \n\n\n\n\n\n\n\n\n\n\n\n\n\n\n\n\n\n\n\n\n\n\n\n\n\n\n\nGet your festive party pieces ready for Christmas day… or whenever you’re put on the spot for some Christmas music! Guests can bring any pieces they would especially like to work on\, or might choose from any of the following: \n\nThe Faber Music Christmas Piano Anthology\nTchaikovsky’s Nutcracker Suite for solo piano\nThe John Rutter Christmas Piano Album\n\n\n\n\n\n\n\n\n\n\n\n\n\n\n\n\n\nAs well as focussing on Christmas repertoire in performance classes\, a spotlight will also be given to Carols for choirs and Christmas songs you need up your sleeve in our two interactive workshops. \n\n\n\n\n\n\n\n\n\n\n\n\n\n\n\n\nIn between the workshop and performance class sessions there will be time for private practice on one of our beautiful grand pianos. During these sessions\, David will give one-to-one lessons on our new Steinway to provide individual pointers and tips… And of course there’s always time for some Christmassy duets with a fellow guest too! \n\n\nOn the Saturday evening\, we’ll enjoy some carols and David will round off the evening with some of his own favourites on the family Bosendorfer. This is the chance to sit back and simply be inspired\, glass of wine in hand by the fireside. \n\n\n\n\n\n\n\n\n\n\n\n\n\n\n\nGuests will: \n\nHave the chance to play in and observe two performance masterclasses.\nWill receive a one-to-one lesson with David.\nEnjoy access to play on our 9 grand pianos anytime between 7am and 8pm. (There are enough pianos to go round that everyone can play a piano at any given time.)\nExperience a private concert for course participants in the main hall of the family home\, performed by David.\nJoin and socialise with a group 8 fellow piano enthusiasts during lunch and dinner.\nDine in style with lunches and three course dinners prepared by our fabulous chef.\nExperience the Finchcocks bubble\, hailed as a “paradise for pianists” by BBC Music Magazine and stay in a grade 1 listed country manor.\n\n\n\n\n\n\n\n\n\n\n\n\n\n\n\n\nFor some musical\, Christmas magic (and to book)\, please fill in the form below! \n\n\n\n\n\n\n\n\n\n\n\n\n\n\n\n\n\n\n\n\n\n\n\n\n\n\n\n	Weekend courses\n\n\n\n\n\n\n\n\n\n\n\n\n\n\n	from £700 (inclusive of accommodation\, food\, wine and tuition)\n\n\n\n\n\n\n\n\n\n\n\n\n\n\n\n  \n\n\n\n Your Name (required)\n \n \n Your Email (required)\n \n \n Which course date(s) are you interested in?\n \n \n Playing level / experience (required)\n \n \n Room price band:\nPlease selectClassic (standard)Considerable (large)Old Dairy (with own piano)\n\n \n Other room preferences: (please select most important one and we'll try to our best to accommodate)\nPlease selectEnsuiteWalk-in showerBath2nd floor3rd floorI'm easy!\n\n \n Please tell us anything else that you think would be helpful:
URL:https://www.finchcocks.com/availability/christmas-at-finchcocks-2026/
CATEGORIES:Advanced,Intermediate,Lower intermediate,Lower Intermediate Weekend,Mixed ability,Upper intermediate,Upper intermediate weekend
ATTACH;FMTTYPE=image/jpeg:https://www.finchcocks.com/wp-content/uploads/2019/04/2019-04-06-Finchcocks-Piano-schoolEd-Ovenden-006-Copy.jpg
END:VEVENT
END:VCALENDAR